BEGIN:VCALENDAR
VERSION:2.0
PRODID:icalendar-ruby
CALSCALE:GREGORIAN
METHOD:PUBLISH
BEGIN:VEVENT
DTSTAMP:20260421T044705Z
UID:277-2839847@plc-abby.org
DTSTART:20260920T160000Z
DTEND:20260920T170000Z
CLASS:PUBLIC
CREATED:20260420T162154
DESCRIPTION:Sunday Service
LAST-MODIFIED:20260420T162154
LOCATION:
SUMMARY: Sunday Service 
URL;VALUE=URI:https://www.plc-abby.org/events/sunday-service/2026-09-20
END:VEVENT
END:VCALENDAR
