BEGIN:VCALENDAR
VERSION:2.0
PRODID:icalendar-ruby
CALSCALE:GREGORIAN
METHOD:PUBLISH
BEGIN:VEVENT
DTSTAMP:20260421T113735Z
UID:277-2841451@plc-abby.org
DTSTART:20261025T160000Z
DTEND:20261025T170000Z
CLASS:PUBLIC
CREATED:20260421T032741
DESCRIPTION:Sunday Service
LAST-MODIFIED:20260421T032741
LOCATION:
SUMMARY: Sunday Service 
URL;VALUE=URI:https://www.plc-abby.org/events/sunday-service/2026-10-25
END:VEVENT
END:VCALENDAR
