BEGIN:VCALENDAR
VERSION:2.0
PRODID:icalendar-ruby
CALSCALE:GREGORIAN
METHOD:PUBLISH
BEGIN:VEVENT
DTSTAMP:20260421T130333Z
UID:277-2841452@plc-abby.org
DTSTART:20261101T170000Z
DTEND:20261101T180000Z
CLASS:PUBLIC
CREATED:20260421T032741
DESCRIPTION:Sunday Service
LAST-MODIFIED:20260421T032741
LOCATION:
SUMMARY: Sunday Service 
URL;VALUE=URI:https://www.plc-abby.org/events/sunday-service/2026-11-01
END:VEVENT
END:VCALENDAR
